BEGIN:VCALENDAR
VERSION:2.0
PRODID:-//fshbhm.org//NONSGML kigkonsult.se iCalcreator 2.30.10//
CALSCALE:GREGORIAN
METHOD:PUBLISH
UID:c17a4f9d-257c-4f2d-8bda-7f131a102bf2
X-WR-CALDESC:Meeting for Women only
X-WR-RELCALID:25f6478a0e4566ef3b852283d410818a
X-WR-TIMEZONE:America/Chicago
BEGIN:VTIMEZONE
TZID:America/Chicago
BEGIN:STANDARD
TZNAME:CST
DTSTART:20191103T020000
TZOFFSETFROM:-0500
TZOFFSETTO:-0600
RDATE:20201101T020000
END:STANDARD
BEGIN:DAYLIGHT
TZNAME:CDT
DTSTART:20190310T020000
TZOFFSETFROM:-0600
TZOFFSETTO:-0500
RDATE:20200308T020000
RDATE:20210314T020000
END:DAYLIGHT
END:VTIMEZONE
BEGIN:VEVENT
UID:8d69e022-d1b6-4066-8b83-cce21014472d
DTSTAMP:20260425T124818Z
DESCRIPTION:Meeting for Women only
DTSTART;TZID=America/Chicago:20200213T183000
DTEND;TZID=America/Chicago:20200213T193000
LOCATION:Fellowship House
SUMMARY:Women's AA Meeting
END:VEVENT
END:VCALENDAR
