BEGIN:VCALENDAR
VERSION:2.0
PRODID:-//fshbhm.org//NONSGML kigkonsult.se iCalcreator 2.30.10//
CALSCALE:GREGORIAN
METHOD:PUBLISH
UID:70a7e83c-e8d0-43db-8fce-8c5d89cd4fbe
X-WR-CALDESC:
X-WR-RELCALID:4e340f07894ad12a90a8472b2f9b90d9
X-WR-TIMEZONE:America/Chicago
BEGIN:VTIMEZONE
TZID:America/Chicago
BEGIN:STANDARD
TZNAME:CST
DTSTART:20191103T020000
TZOFFSETFROM:-0500
TZOFFSETTO:-0600
RDATE:20201101T020000
END:STANDARD
BEGIN:DAYLIGHT
TZNAME:CDT
DTSTART:20190310T020000
TZOFFSETFROM:-0600
TZOFFSETTO:-0500
RDATE:20200308T020000
RDATE:20210314T020000
END:DAYLIGHT
END:VTIMEZONE
BEGIN:VEVENT
UID:2a5834ca-e012-4868-9d2b-8a812612405b
DTSTAMP:20260424T105616Z
DESCRIPTION:
DTSTART;TZID=America/Chicago:20200223T180000
DTEND;TZID=America/Chicago:20200223T190000
LOCATION:
SUMMARY:AA Speaker Meeting
END:VEVENT
END:VCALENDAR
