BEGIN:VCALENDAR
VERSION:2.0
PRODID:-//fshbhm.org//NONSGML kigkonsult.se iCalcreator 2.30.10//
CALSCALE:GREGORIAN
METHOD:PUBLISH
UID:2a4026cd-7640-490a-8803-76cf919eceef
X-WR-CALDESC:This is a 12 step meeting designed for those who have a Substa
 nce Use Dependence and a Mental Health Diagnosis.
X-WR-RELCALID:82aacb01e5b861702d323e8c6916f58f
X-WR-TIMEZONE:America/Chicago
BEGIN:VTIMEZONE
TZID:America/Chicago
BEGIN:STANDARD
TZNAME:CST
DTSTART:20191103T020000
TZOFFSETFROM:-0500
TZOFFSETTO:-0600
RDATE:20201101T020000
END:STANDARD
BEGIN:DAYLIGHT
TZNAME:CDT
DTSTART:20200308T020000
TZOFFSETFROM:-0600
TZOFFSETTO:-0500
RDATE:20210314T020000
END:DAYLIGHT
END:VTIMEZONE
BEGIN:VEVENT
UID:bd079aad-ef41-4b2c-a5d5-ce370d466da5
DTSTAMP:20260425T200847Z
DESCRIPTION:This is a 12 step meeting designed for those who have a Substan
 ce Use Dependence and a Mental Health Diagnosis.
DTSTART;TZID=America/Chicago:20200325T120000
DTEND;TZID=America/Chicago:20200325T130000
LOCATION:
SUMMARY:Double Trouble in Recovery meeting
END:VEVENT
END:VCALENDAR
