BEGIN:VCALENDAR
VERSION:2.0
PRODID:-//fshbhm.org//NONSGML kigkonsult.se iCalcreator 2.30.10//
CALSCALE:GREGORIAN
METHOD:PUBLISH
UID:fe46eb98-a8a1-49b7-a2dd-16ec6d9abce9
X-WR-CALDESC:
X-WR-RELCALID:4ca20c8d2618a2a8187a40706413c62c
X-WR-TIMEZONE:America/Chicago
BEGIN:VTIMEZONE
TZID:America/Chicago
BEGIN:STANDARD
TZNAME:CST
DTSTART:20191103T020000
TZOFFSETFROM:-0500
TZOFFSETTO:-0600
RDATE:20201101T020000
RDATE:20211107T020000
END:STANDARD
BEGIN:DAYLIGHT
TZNAME:CDT
DTSTART:20200308T020000
TZOFFSETFROM:-0600
TZOFFSETTO:-0500
RDATE:20210314T020000
END:DAYLIGHT
END:VTIMEZONE
BEGIN:VEVENT
UID:eaa8019e-bf82-4466-867f-0f5902cdc812
DTSTAMP:20260423T235412Z
DESCRIPTION:
DTSTART;TZID=America/Chicago:20200520T200000
DTEND;TZID=America/Chicago:20200520T210000
LOCATION:Fellowship House
SUMMARY:AA Speaker Meeting
END:VEVENT
END:VCALENDAR
