BEGIN:VCALENDAR
VERSION:2.0
PRODID:-//fshbhm.org//NONSGML kigkonsult.se iCalcreator 2.30.10//
CALSCALE:GREGORIAN
METHOD:PUBLISH
UID:8d23cffe-774a-40bb-a4c2-aa6a0838ff47
X-WR-CALDESC:UPDATE:\n\nExperiencing trauma can affect physical\, social\, 
 emotional\, and behavioral aspects of life.  Considering past trauma\, rem
 aining aware of coping mechanisms\, and understanding the importance of tr
 auma-informed care aids helpers in treating the whole person rather than d
 ifferent symptoms.\nAbout the Trainer: Dr. Asha Dickerson\, PhD\, LPC\, NC
 C\, CPCS is a Licensed Professional Counselor\, education consultant\, and
  speaker based in Atlanta\, Georgia. Dr. Dickerson has worked with individ
 uals and families of all age ranges and her clinical and academic specialt
 ies include multicultural issues\, addicted families\, and blended family 
 issues.\n\nObjectives:\nDescribe various issues that may impact client car
 e and recovery.\nGain knowledge of the signs and symptoms of trauma in cli
 ents\, family\, and colleagues.\nLearn how to avoid and combat vicarious t
 rauma in helping professionals.\nUnderstand the importance of trauma-infor
 med approaches in mental health treatment.\n\nCancellation: Refunds availa
 ble up to June 1\, 2020 minus $10 administrative fee. No refunds available
  after June 1\, 2020.\n\nLocation and Parking: United Way of Central Alaba
 ma Boardroom (3600 8th Avenue S.\, Birmingham\, AL. 35222) Free parking av
 ailable on site.\n\nRegistration Options: There are two registration optio
 ns.\n(1) Participants can pay and register online by going to www.fshbhm.o
 rg\, click on the upcoming events tab and select the June 10th training da
 te.\n\n(2) Participants can complete the attached registration form and ma
 il it with a check or money order to:\nFellowship House\, Inc. – Trauma Tr
 aining\nAttn: Elizabeth Norman\n1625 12th Avenue S.\nBirmingham\, AL 35205
 \n*Please make checks or money orders out to: Fellowship House\, Inc.*
X-WR-RELCALID:758ecd96a3699d5ba87be95302084907
X-WR-TIMEZONE:America/Chicago
BEGIN:VTIMEZONE
TZID:America/Chicago
BEGIN:STANDARD
TZNAME:CST
DTSTART:20191103T020000
TZOFFSETFROM:-0500
TZOFFSETTO:-0600
RDATE:20201101T020000
RDATE:20211107T020000
END:STANDARD
BEGIN:DAYLIGHT
TZNAME:CDT
DTSTART:20200308T020000
TZOFFSETFROM:-0600
TZOFFSETTO:-0500
RDATE:20210314T020000
END:DAYLIGHT
END:VTIMEZONE
BEGIN:VEVENT
UID:2ea64187-aaae-4287-ab79-8c31abcc7367
DTSTAMP:20260424T071019Z
DESCRIPTION:UPDATE:\n\nExperiencing trauma can affect physical\, social\, e
 motional\, and behavioral aspects of life.  Considering past trauma\, rema
 ining aware of coping mechanisms\, and understanding the importance of tra
 uma-informed care aids helpers in treating the whole person rather than di
 fferent symptoms.\nAbout the Trainer: Dr. Asha Dickerson\, PhD\, LPC\, NCC
 \, CPCS is a Licensed Professional Counselor\, education consultant\, and 
 speaker based in Atlanta\, Georgia. Dr. Dickerson has worked with individu
 als and families of all age ranges and her clinical and academic specialti
 es include multicultural issues\, addicted families\, and blended family i
 ssues.\n\nObjectives:\nDescribe various issues that may impact client care
  and recovery.\nGain knowledge of the signs and symptoms of trauma in clie
 nts\, family\, and colleagues.\nLearn how to avoid and combat vicarious tr
 auma in helping professionals.\nUnderstand the importance of trauma-inform
 ed approaches in mental health treatment.\n\nCancellation: Refunds availab
 le up to June 1\, 2020 minus $10 administrative fee. No refunds available 
 after June 1\, 2020.\n\nLocation and Parking: United Way of Central Alabam
 a Boardroom (3600 8th Avenue S.\, Birmingham\, AL. 35222) Free parking ava
 ilable on site.\n\nRegistration Options: There are two registration option
 s.\n(1) Participants can pay and register online by going to www.fshbhm.or
 g\, click on the upcoming events tab and select the June 10th training dat
 e.\n\n(2) Participants can complete the attached registration form and mai
 l it with a check or money order to:\nFellowship House\, Inc. – Trauma Tra
 ining\nAttn: Elizabeth Norman\n1625 12th Avenue S.\nBirmingham\, AL 35205
 \n*Please make checks or money orders out to: Fellowship House\, Inc.*
DTSTART;TZID=America/Chicago:20200610T100000
DTEND;TZID=America/Chicago:20200610T150000
LOCATION:WEBINAR
SUMMARY:Trauma Informed Care
END:VEVENT
END:VCALENDAR
