BEGIN:VCALENDAR
VERSION:2.0
PRODID:-//fshbhm.org//NONSGML kigkonsult.se iCalcreator 2.30.10//
CALSCALE:GREGORIAN
METHOD:PUBLISH
UID:6b3a0d2e-a241-45af-b85d-4228b1da6da9
X-WR-CALDESC:
X-WR-RELCALID:5a85cdf68a603e34c2e0621767e01b0e
X-WR-TIMEZONE:America/Chicago
BEGIN:VTIMEZONE
TZID:America/Chicago
BEGIN:STANDARD
TZNAME:CST
DTSTART:20191103T020000
TZOFFSETFROM:-0500
TZOFFSETTO:-0600
RDATE:20201101T020000
RDATE:20211107T020000
END:STANDARD
BEGIN:DAYLIGHT
TZNAME:CDT
DTSTART:20200308T020000
TZOFFSETFROM:-0600
TZOFFSETTO:-0500
RDATE:20210314T020000
END:DAYLIGHT
END:VTIMEZONE
BEGIN:VEVENT
UID:718af3b5-8c90-4277-afc9-6f2ae9616fff
DTSTAMP:20260423T211137Z
DESCRIPTION:
DTSTART;TZID=America/Chicago:20200705T180000
DTEND;TZID=America/Chicago:20200705T190000
LOCATION:
SUMMARY:AA Speaker Meeting
END:VEVENT
END:VCALENDAR
