BEGIN:VCALENDAR
VERSION:2.0
PRODID:-//fshbhm.org//NONSGML kigkonsult.se iCalcreator 2.30.10//
CALSCALE:GREGORIAN
METHOD:PUBLISH
UID:5d80ad7d-8c2a-4564-b262-76097dc7cf4a
X-WR-CALDESC:This is a 12 step meeting designed for those who have a Substa
 nce Use Dependence and a Mental Health Diagnosis.
X-WR-RELCALID:8d4455969fb463d0550894ee26c91f74
X-WR-TIMEZONE:America/Chicago
BEGIN:VTIMEZONE
TZID:America/Chicago
BEGIN:STANDARD
TZNAME:CST
DTSTART:20191103T020000
TZOFFSETFROM:-0500
TZOFFSETTO:-0600
RDATE:20201101T020000
RDATE:20211107T020000
END:STANDARD
BEGIN:DAYLIGHT
TZNAME:CDT
DTSTART:20200308T020000
TZOFFSETFROM:-0600
TZOFFSETTO:-0500
RDATE:20210314T020000
RDATE:20220313T020000
END:DAYLIGHT
END:VTIMEZONE
BEGIN:VEVENT
UID:97daf641-eb31-4805-9546-b7307ffeb031
DTSTAMP:20260424T150314Z
DESCRIPTION:This is a 12 step meeting designed for those who have a Substan
 ce Use Dependence and a Mental Health Diagnosis.
DTSTART;TZID=America/Chicago:20200916T120000
DTEND;TZID=America/Chicago:20200916T130000
LOCATION:
SUMMARY:Double Trouble in Recovery meeting
END:VEVENT
END:VCALENDAR
