BEGIN:VCALENDAR
VERSION:2.0
PRODID:-//fshbhm.org//NONSGML kigkonsult.se iCalcreator 2.30.10//
CALSCALE:GREGORIAN
METHOD:PUBLISH
UID:f30c5afa-aa39-4f09-a6db-d6267c565403
X-WR-CALDESC:We are hosting a new supply drive starting from November 1st t
 o November 5th. We hope that you are interested in donating! The supplies 
 we raise will go towards taking care off our patients who are struggling w
 ith substance use disorder. Help us start November off right by helping us
  provide for our patients with through this supply drive.\n\nVisit us at o
 ur address and their will be a drop box waiting for you where you can drop
  off your donations.
X-WR-RELCALID:75614e66b56e77f495828d99052c721f
X-WR-TIMEZONE:America/Chicago
BEGIN:VTIMEZONE
TZID:America/Chicago
BEGIN:STANDARD
TZNAME:CST
DTSTART:20201101T020000
TZOFFSETFROM:-0500
TZOFFSETTO:-0600
RDATE:20211107T020000
RDATE:20221106T020000
END:STANDARD
BEGIN:DAYLIGHT
TZNAME:CDT
DTSTART:20210314T020000
TZOFFSETFROM:-0600
TZOFFSETTO:-0500
RDATE:20220313T020000
RDATE:20230312T020000
END:DAYLIGHT
END:VTIMEZONE
BEGIN:VEVENT
UID:97e17796-3551-411a-af05-1f36bc71bfed
DTSTAMP:20260424T004710Z
DESCRIPTION:We are hosting a new supply drive starting from November 1st to
  November 5th. We hope that you are interested in donating! The supplies w
 e raise will go towards taking care off our patients who are struggling wi
 th substance use disorder. Help us start November off right by helping us 
 provide for our patients with through this supply drive.\n\nVisit us at ou
 r address and their will be a drop box waiting for you where you can drop 
 off your donations.
DTSTART;TZID=America/Chicago:20211101T113000
DTEND;TZID=America/Chicago:20211105T123000
LOCATION:1625 12th Ave S\, Birmingham \, AL 35205 US
SUMMARY:Fellowship House Inc. Supply Drive
END:VEVENT
END:VCALENDAR
