BEGIN:VCALENDAR
VERSION:2.0
PRODID:-//fshbhm.org//NONSGML kigkonsult.se iCalcreator 2.30.10//
CALSCALE:GREGORIAN
METHOD:PUBLISH
UID:d4a7b1e0-76ae-4363-81ec-172e4022478f
X-WR-CALDESC:
X-WR-RELCALID:d4b29cd681fd244f128dd8375dcf4b72
X-WR-TIMEZONE:America/Chicago
BEGIN:VTIMEZONE
TZID:America/Chicago
BEGIN:STANDARD
TZNAME:CST
DTSTART:20221106T020000
TZOFFSETFROM:-0500
TZOFFSETTO:-0600
RDATE:20231105T020000
END:STANDARD
BEGIN:DAYLIGHT
TZNAME:CDT
DTSTART:20220313T020000
TZOFFSETFROM:-0600
TZOFFSETTO:-0500
RDATE:20230312T020000
RDATE:20240310T020000
END:DAYLIGHT
END:VTIMEZONE
BEGIN:VEVENT
UID:2f606351-b149-43f1-8eda-1b07e983ebe3
DTSTAMP:20260424T123412Z
DESCRIPTION:
DTSTART;TZID=America/Chicago:20221203T100000
DTEND;TZID=America/Chicago:20221203T160000
LOCATION:Sloss Furnaces East Room
SUMMARY:Holiday Market hosted by the Junior Board
END:VEVENT
END:VCALENDAR
