BEGIN:VCALENDAR
VERSION:2.0
PRODID:-//fshbhm.org//NONSGML kigkonsult.se iCalcreator 2.30.10//
CALSCALE:GREGORIAN
METHOD:PUBLISH
UID:75b4d567-013e-425f-b10a-b74b9540c960
X-WR-CALDESC:This support group is open to anyone that has been through any
  of Fellowship House's programs and looking for accountability and support
  after treatment!
X-WR-RELCALID:519b2ec262ddb607d112352d8db5f6b9
X-WR-TIMEZONE:America/Chicago
BEGIN:VTIMEZONE
TZID:America/Chicago
BEGIN:STANDARD
TZNAME:CST
DTSTART:20221106T020000
TZOFFSETFROM:-0500
TZOFFSETTO:-0600
RDATE:20231105T020000
END:STANDARD
BEGIN:DAYLIGHT
TZNAME:CDT
DTSTART:20230312T020000
TZOFFSETFROM:-0600
TZOFFSETTO:-0500
RDATE:20240310T020000
END:DAYLIGHT
END:VTIMEZONE
BEGIN:VEVENT
UID:3e08e0fd-cdb3-4709-ba5b-f1b7bb230664
DTSTAMP:20260424T193524Z
DESCRIPTION:This support group is open to anyone that has been through any 
 of Fellowship House's programs and looking for accountability and support 
 after treatment!
DTSTART;TZID=America/Chicago:20230405T183000
DTEND;TZID=America/Chicago:20230405T193000
LOCATION:Fellowship House Upper Putt Hutt
SUMMARY:Alumni Group
END:VEVENT
END:VCALENDAR
