BEGIN:VCALENDAR
VERSION:2.0
PRODID:-//fshbhm.org//NONSGML kigkonsult.se iCalcreator 2.30.10//
CALSCALE:GREGORIAN
METHOD:PUBLISH
UID:9650c2fd-03dd-4d2a-bfeb-e3e7fd8b8f98
X-WR-CALDESC:** Pre-orders are closed\, but we are open and accepting walk 
 ups all day until 4PM or we sell out\, which ever comes first!!\n*We have 
 a drive thru format this year\, so you don't have to get out of your car!
 \n*Accepting card\, Venmo\, PayPal\, or cash but we cannot guarantee chang
 e with cash!\n\nFellowship House is bringing back our BBQ lunch event! Rib
 s\, BBQ Chicken\, and Pulled Pork Sandwiches are on the menu for one of ou
 r classic events! Grab your ticket below and select two sides items! \n\nS
 odas and water will also be available to purchase on site!
X-WR-RELCALID:f0ceb8eec5f4440e43a83215cfc4ac24
X-WR-TIMEZONE:America/Chicago
BEGIN:VTIMEZONE
TZID:America/Chicago
BEGIN:STANDARD
TZNAME:CST
DTSTART:20221106T020000
TZOFFSETFROM:-0500
TZOFFSETTO:-0600
RDATE:20231105T020000
RDATE:20241103T020000
END:STANDARD
BEGIN:DAYLIGHT
TZNAME:CDT
DTSTART:20230312T020000
TZOFFSETFROM:-0600
TZOFFSETTO:-0500
RDATE:20240310T020000
END:DAYLIGHT
END:VTIMEZONE
BEGIN:VEVENT
UID:ba4b14df-e03b-4f34-9dba-cfe441d9c68e
DTSTAMP:20260424T224711Z
DESCRIPTION:** Pre-orders are closed\, but we are open and accepting walk u
 ps all day until 4PM or we sell out\, which ever comes first!!\n*We have a
  drive thru format this year\, so you don't have to get out of your car!\n
 *Accepting card\, Venmo\, PayPal\, or cash but we cannot guarantee change 
 with cash!\n\nFellowship House is bringing back our BBQ lunch event! Ribs\
 , BBQ Chicken\, and Pulled Pork Sandwiches are on the menu for one of our 
 classic events! Grab your ticket below and select two sides items! \n\nSod
 as and water will also be available to purchase on site!
DTSTART;TZID=America/Chicago:20230615T110000
DTEND;TZID=America/Chicago:20230615T160000
LOCATION:Fellowship House Apartment Program
SUMMARY:Fellowship House BBQ Fundraiser
END:VEVENT
END:VCALENDAR
