BEGIN:VCALENDAR
VERSION:2.0
PRODID:-//fshbhm.org//NONSGML kigkonsult.se iCalcreator 2.30.10//
CALSCALE:GREGORIAN
METHOD:PUBLISH
UID:ace1c01b-fe7c-4103-a555-ab44fa14d62a
X-WR-CALDESC:This support group is open to anyone that has been through any
  of Fellowship House's programs and looking for accountability and support
  after treatment!
X-WR-RELCALID:79d7ed56d3f99f102fb33ebde938897c
X-WR-TIMEZONE:America/Chicago
BEGIN:VTIMEZONE
TZID:America/Chicago
BEGIN:STANDARD
TZNAME:CST
DTSTART:20221106T020000
TZOFFSETFROM:-0500
TZOFFSETTO:-0600
RDATE:20231105T020000
RDATE:20241103T020000
END:STANDARD
BEGIN:DAYLIGHT
TZNAME:CDT
DTSTART:20230312T020000
TZOFFSETFROM:-0600
TZOFFSETTO:-0500
RDATE:20240310T020000
END:DAYLIGHT
END:VTIMEZONE
BEGIN:VEVENT
UID:7891070f-f07a-4f7c-8c95-87ff94f9d77f
DTSTAMP:20260425T013310Z
DESCRIPTION:This support group is open to anyone that has been through any 
 of Fellowship House's programs and looking for accountability and support 
 after treatment!
DTSTART;TZID=America/Chicago:20230823T183000
DTEND;TZID=America/Chicago:20230823T193000
LOCATION:Fellowship House Upper Putt Hutt
SUMMARY:Alumni Group
END:VEVENT
END:VCALENDAR
