BEGIN:VCALENDAR
VERSION:2.0
PRODID:-//fshbhm.org//NONSGML kigkonsult.se iCalcreator 2.30.10//
CALSCALE:GREGORIAN
METHOD:PUBLISH
UID:37fde8e9-abf9-4ccf-9a8d-ae25fdad86d1
X-WR-CALDESC:This support group is open to anyone that has been through any
  of Fellowship House's programs and looking for accountability and support
  after treatment!
X-WR-RELCALID:e27a29dcf34e421872cc055a1c9f177d
X-WR-TIMEZONE:America/Chicago
BEGIN:VTIMEZONE
TZID:America/Chicago
BEGIN:STANDARD
TZNAME:CST
DTSTART:20231105T020000
TZOFFSETFROM:-0500
TZOFFSETTO:-0600
RDATE:20241103T020000
END:STANDARD
BEGIN:DAYLIGHT
TZNAME:CDT
DTSTART:20240310T020000
TZOFFSETFROM:-0600
TZOFFSETTO:-0500
RDATE:20250309T020000
END:DAYLIGHT
END:VTIMEZONE
BEGIN:VEVENT
UID:97494fc9-a3bb-4808-ba28-c11659f51aee
DTSTAMP:20260425T133142Z
DESCRIPTION:This support group is open to anyone that has been through any 
 of Fellowship House's programs and looking for accountability and support 
 after treatment!
DTSTART;TZID=America/Chicago:20240403T183000
DTEND;TZID=America/Chicago:20240403T193000
LOCATION:Fellowship House Upper Putt Hutt
SUMMARY:Alumni Group
END:VEVENT
END:VCALENDAR
