BEGIN:VCALENDAR
VERSION:2.0
PRODID:-//fshbhm.org//NONSGML kigkonsult.se iCalcreator 2.30.10//
CALSCALE:GREGORIAN
METHOD:PUBLISH
UID:5186c5ce-9f49-43b3-8c50-ddd2f6976e07
X-WR-CALDESC:This support group is open to anyone that has been through any
  of Fellowship House's programs and looking for accountability and support
  after treatment!
X-WR-RELCALID:38037a3e077ac8be6456d116eaf78e3c
X-WR-TIMEZONE:America/Chicago
BEGIN:VTIMEZONE
TZID:America/Chicago
BEGIN:STANDARD
TZNAME:CST
DTSTART:20231105T020000
TZOFFSETFROM:-0500
TZOFFSETTO:-0600
RDATE:20241103T020000
RDATE:20251102T020000
END:STANDARD
BEGIN:DAYLIGHT
TZNAME:CDT
DTSTART:20240310T020000
TZOFFSETFROM:-0600
TZOFFSETTO:-0500
RDATE:20250309T020000
RDATE:20260308T020000
END:DAYLIGHT
END:VTIMEZONE
BEGIN:VEVENT
UID:4c192bec-be1a-4c8c-b666-a7a562668707
DTSTAMP:20260425T224941Z
DESCRIPTION:This support group is open to anyone that has been through any 
 of Fellowship House's programs and looking for accountability and support 
 after treatment!
DTSTART;TZID=America/Chicago:20241016T183000
DTEND;TZID=America/Chicago:20241016T193000
LOCATION:Fellowship House Upper Putt Hutt
SUMMARY:Alumni Group
END:VEVENT
END:VCALENDAR
