BEGIN:VCALENDAR
VERSION:2.0
PRODID:-//fshbhm.org//NONSGML kigkonsult.se iCalcreator 2.30.10//
CALSCALE:GREGORIAN
METHOD:PUBLISH
UID:44e3bb35-1dfd-402e-a0d4-2687b6da08be
X-WR-CALDESC:This support group is open to anyone that has been through any
  of Fellowship House's programs and looking for accountability and support
  after treatment!
X-WR-RELCALID:1f3d417335f85b2a01f2296e6d7a6667
X-WR-TIMEZONE:America/Chicago
BEGIN:VTIMEZONE
TZID:America/Chicago
BEGIN:STANDARD
TZNAME:CST
DTSTART:20241103T020000
TZOFFSETFROM:-0500
TZOFFSETTO:-0600
RDATE:20251102T020000
END:STANDARD
BEGIN:DAYLIGHT
TZNAME:CDT
DTSTART:20240310T020000
TZOFFSETFROM:-0600
TZOFFSETTO:-0500
RDATE:20250309T020000
RDATE:20260308T020000
END:DAYLIGHT
END:VTIMEZONE
BEGIN:VEVENT
UID:2a4dfa4f-d364-41e8-b72b-393dee87f2ec
DTSTAMP:20260426T003320Z
DESCRIPTION:This support group is open to anyone that has been through any 
 of Fellowship House's programs and looking for accountability and support 
 after treatment!
DTSTART;TZID=America/Chicago:20241113T183000
DTEND;TZID=America/Chicago:20241113T193000
LOCATION:Fellowship House Upper Putt Hutt
SUMMARY:Alumni Group
END:VEVENT
END:VCALENDAR
